Workbook

Sheet Traubenpreise 2025
B2: Pinot Noir | G2: Chasselas
B3: Oechsle-Wert | C3: Durchschnittspreis (Fr./kg) | D3: Zuschlag (Fr./kg) | E3: Endpreis (Fr./Kilo) | G3: Oechsle-Wert | H3: Durchschnittspreis (Fr./kg) | I3: Zuschlag (Fr./kg) | J3: Endpreis (Fr./Kilo)
B4: 102.2 | C4: 4.9 | D4: 0.32 | E4: =C4+D4 -> 5.22 | G4: 80.9 | H4: 3.95 | I4: 1.12 | J4: =H4+I4 -> 5.07
B5: 101.3 | C5: 4.9 | D5: 0.32 | E5: =C5+D5 -> 5.22 | G5: 80 | H5: 3.95 | I5: 0.96 | J5: =H5+I5 -> 4.91
B6: 99.5 | C6: 4.9 | D6: 0.32 | E6: =C6+D6 -> 5.22 | G6: 79.1 | H6: 3.95 | I6: 0.72 | J6: =H6+I6 -> 4.67 | L6: Pinot Noir | P6: Chasselas
B7: 99 | C7: 4.9 | D7: 0.32 | E7: =C7+D7 -> 5.22 | G7: 77.8 | H7: 3.95 | I7: 0.56 | J7: =H7+I7 -> 4.51 | L7: Mittelwert Oechsle | M7: 92 | P7: Mittelwert Oechsle | Q7: 71
B8: 98.1 | C8: 4.9 | D8: 0.32 | E8: =C8+D8 -> 5.22 | G8: 76.9 | H8: 3.95 | I8: 0.4 | J8: =H8+I8 -> 4.35 | L8: Mittelwert Preis | M8: 4.9 | P8: Mittelwert Preis | Q8: 3.95
B9: 97.2 | C9: 4.9 | D9: 0.24 | E9: =C9+D9 -> 5.14 | G9: 75.6 | H9: 3.95 | I9: 0.24 | J9: =H9+I9 -> 4.19 | L9: Skala Max | M9: 102 | P9: Skala Max | Q9: 81
B10: 96.3 | C10: 4.9 | D10: 0.16 | E10: =C10+D10 -> 5.06 | G10: 74.7 | H10: 3.95 | I10: 0.12 | J10: =H10+I10 -> 4.07 | L10: Skala Min | M10: 76 | P10: Skala Min | Q10: 59
B11: 94.9 | C11: 4.9 | D11: 0.1 | E11: =C11+D11 -> 5 | G11: 74.3 | H11: 3.95 | I11: 0.08 | J11: =H11+I11 -> 4.03
B12: 94 | C12: 4.9 | D12: 0.06 | E12: =C12+D12 -> 4.96 | G12: 73.4 | H12: 3.95 | I12: 0.04 | J12: =H12+I12 -> 3.99 | L12: Berechnungsmodul | P12: Berechnungsmodul
B13: 92.6 | C13: 4.9 | D13: 0 | E13: =C13+D13 -> 4.9 | G13: 71.7 | H13: 3.95 | I13: 0 | J13: =H13+I13 -> 3.95 | L13: Oechsle (76 bis 102): | M13: 92 | P13: Oechsle ( 59 bis 81): | Q13: 71
B14: 92.2 | C14: 4.9 | D14: 0 | E14: =C14+D14 -> 4.9 | G14: 70.8 | H14: 3.95 | I14: 0 | J14: =H14+I14 -> 3.95 | L14: Kilo: | M14: 100 | P14: Kilo: | Q14: 100
B15: 91.3 | C15: 4.9 | D15: 0 | E15: =C15+D15 -> 4.9 | G15: 69.9 | H15: 3.95 | I15: 0 | J15: =H15+I15 -> 3.95 | L15: Betrag: | M15: =Tabelle1!B62*Tabelle1!C62 -> 490 | N15: Franken | P15: Betrag: | Q15: =Tabelle1!E62*Tabelle1!F62 -> 395 | R15: Franken
B16: 89.9 | C16: 4.9 | D16: -0.02 | E16: =C16+D16 -> 4.88 | G16: 68.6 | H16: 3.95 | I16: -0.04 | J16: =H16+I16 -> 3.91 | L16: Nach Eingabe von Oechsle und Kilo erhalten Sie den errechneten Betrag
B17: 88.6 | C17: 4.9 | D17: -0.04 | E17: =C17+D17 -> 4.86 | G17: 67.8 | H17: 3.95 | I17: -0.08 | J17: =H17+I17 -> 3.87
B18: 87.7 | C18: 4.9 | D18: -0.1 | E18: =C18+D18 -> 4.8 | G18: 66.9 | H18: 3.95 | I18: -0.12 | J18: =H18+I18 -> 3.83
B19: 86.8 | C19: 4.9 | D19: -0.16 | E19: =C19+D19 -> 4.74 | G19: 65.6 | H19: 3.95 | I19: -0.24 | J19: =H19+I19 -> 3.71
B20: 85.9 | C20: 4.9 | D20: -0.24 | E20: =C20+D20 -> 4.66 | G20: 64.8 | H20: 3.95 | I20: -0.4 | J20: =H20+I20 -> 3.55
B21: 85 | C21: 4.9 | D21: -0.4 | E21: =C21+D21 -> 4.5 | G21: 63.9 | H21: 3.95 | I21: -0.56 | J21: =H21+I21 -> 3.39
B22: 83.7 | C22: 4.9 | D22: -0.64 | E22: =C22+D22 -> 4.26 | G22: 62.6 | H22: 3.95 | I22: -0.72 | J22: =H22+I22 -> 3.23
B23: 82.8 | C23: 4.9 | D23: -0.8 | E23: =C23+D23 -> 4.1 | G23: 61.8 | H23: 3.95 | I23: -0.96 | J23: =H23+I23 -> 2.99
B24: 81.9 | C24: 4.9 | D24: -0.96 | E24: =C24+D24 -> 3.94 | G24: 60.9 | H24: 3.95 | I24: -1.12 | J24: =H24+I24 -> 2.83
B25: 81 | C25: 4.9 | D25: -1.12 | E25: =C25+D25 -> 3.78 | G25: 59.6 | H25: 3.95 | I25: -1.2 | J25: =H25+I25 -> 2.75
B26: 79.7 | C26: 4.9 | D26: -1.36 | E26: =C26+D26 -> 3.54 | G26: 59.2 | H26: 3.95 | I26: -1.27 | J26: =H26+I26 -> 2.68
B27: 78.8 | C27: 4.9 | D27: -1.52 | E27: =C27+D27 -> 3.38
B28: 77.9 | C28: 4.9 | D28: -1.68 | E28: =C28+D28 -> 3.22
B29: 77 | C29: 4.9 | D29: -1.84 | E29: =C29+D29 -> 3.06
B30: 76.1 | C30: 4.9 | D30: -2.08 | E30: =C30+D30 -> 2.82

Sheet Tabelle1
B2: 75.7 | C2: 2.82 | E2: 55.5 | F2: 2.21
B3: 76.1 | C3: 2.9 | E3: 56 | F3: 2.27
B4: 76.6 | C4: 2.98 | E4: 56.4 | F4: 2.33
B5: 77 | C5: 3.06 | E5: 56.8 | F5: 2.39
B6: 77.4 | C6: 3.14 | E6: 57.3 | F6: 2.45
B7: 77.9 | C7: 3.22 | E7: 57.7 | F7: 2.51
B8: 78.3 | C8: 3.3 | E8: 58.2 | F8: 2.56
B9: 78.8 | C9: 3.38 | E9: 58.6 | F9: 2.62
B10: 79.2 | C10: 3.46 | E10: 59 | F10: 2.68
B11: 79.7 | C11: 3.54 | E11: 59.6 | F11: 2.72
B12: 80.1 | C12: 3.62 | E12: 60 | F12: 2.75
B13: 80.5 | C13: 3.7 | E13: 60.5 | F13: 2.8
... B60: 101.8 | C60: 5.22 | E60: 80.9 | F60: 5.07
B62: =VLOOKUP('Traubenpreise 2025'!M13,B2:C60,2,TRUE) -> 4.9 | C62: ='Traubenpreise 2025'!M14 -> 100 | E62: =VLOOKUP('Traubenpreise 2025'!Q13,E2:F60,2,TRUE) -> 3.95 | F62: ='Traubenpreise 2025'!Q14 -> 100
